BEGIN:VCALENDAR
VERSION:2.0
PRODID:icalendar-ruby
CALSCALE:GREGORIAN
METHOD:PUBLISH
BEGIN:VEVENT
DTSTAMP:20260424T165747Z
UID:11-1337161@cothma.org
DTSTART:20260720T130000Z
DTEND:20260723T160000Z
CLASS:PUBLIC
CREATED:20260408T111040
DESCRIPTION:Journey through Ireland in Emerald Crossing\, where Psalm 23 co
 mes to life! Kids will explore God as Shepherd\, Guide\, Comforter\, Provi
 der\, and King through David’s story\, hands-on activities\, and apologe
 tics.\n\nFrom Donegal’s green pastures to Dublin’s Viking history\, ea
 ch day reveals how God leads\, protects\, and provides. Join the adventure
 !
LAST-MODIFIED:20260408T111040
LOCATION:Chapel on the Hill
SUMMARY:VBS
URL;VALUE=URI:https://www.cothma.org/events/vbs/2026-07-20
ATTACH;FILENAME=EC_Logo_Small.png;FMTTYPE=image/png:https://dq5pwpg1q8ru0.c
 loudfront.net/2026/04/08/15/10/39/26c1a3e1-1fea-4617-b6da-f784be78bbab/EC_
 Logo_Small.png
END:VEVENT
END:VCALENDAR
